BEGIN:VCALENDAR
VERSION:2.0
PRODID:-//Persischer Kulturverein Mitteldeutschland e.V. - ECPv6.15.11//NONSGML v1.0//EN
CALSCALE:GREGORIAN
METHOD:PUBLISH
X-WR-CALNAME:Persischer Kulturverein Mitteldeutschland e.V.
X-ORIGINAL-URL:http://pkm-verein.de
X-WR-CALDESC:Veranstaltungen für Persischer Kulturverein Mitteldeutschland e.V.
REFRESH-INTERVAL;VALUE=DURATION:PT1H
X-Robots-Tag:noindex
X-PUBLISHED-TTL:PT1H
BEGIN:VTIMEZONE
TZID:Europe/Berlin
BEGIN:DAYLIGHT
TZOFFSETFROM:+0100
TZOFFSETTO:+0200
TZNAME:CEST
DTSTART:20240331T010000
END:DAYLIGHT
BEGIN:STANDARD
TZOFFSETFROM:+0200
TZOFFSETTO:+0100
TZNAME:CET
DTSTART:20241027T010000
END:STANDARD
BEGIN:DAYLIGHT
TZOFFSETFROM:+0100
TZOFFSETTO:+0200
TZNAME:CEST
DTSTART:20250330T010000
END:DAYLIGHT
BEGIN:STANDARD
TZOFFSETFROM:+0200
TZOFFSETTO:+0100
TZNAME:CET
DTSTART:20251026T010000
END:STANDARD
BEGIN:DAYLIGHT
TZOFFSETFROM:+0100
TZOFFSETTO:+0200
TZNAME:CEST
DTSTART:20260329T010000
END:DAYLIGHT
BEGIN:STANDARD
TZOFFSETFROM:+0200
TZOFFSETTO:+0100
TZNAME:CET
DTSTART:20261025T010000
END:STANDARD
END:VTIMEZONE
BEGIN:VEVENT
DTSTART;TZID=Europe/Berlin:20251220T180000
DTEND;TZID=Europe/Berlin:20251220T230000
DTSTAMP:20260421T135248
CREATED:20251027T214309Z
LAST-MODIFIED:20251027T214309Z
UID:1217-1766253600-1766271600@pkm-verein.de
SUMMARY:Yalda Nacht - Test
DESCRIPTION:Event Anzeige – Test KontaktformularBitte aktiviere JavaScript in deinem Browser\, um dieses Formular fertigzustellen.Bitte aktiviere JavaScript in deinem Browser\, um dieses Formular fertigzustellen.Name *VornameNachname		\n			Kommentar Nachricht E-Mail-Adresse\n			\n		\n		E-Mail-Adresse *Kommentar oder NachrichtAbsenden
URL:http://pkm-verein.de/veranstaltung/yalda-nacht-test/
LOCATION:Yalda Nacht\, Hauptbahnhof\, Erfurt\, Thüringen\, 99084\, Germany
ORGANIZER;CN="PKM Verein":MAILTO:info@pkm-verein.de
END:VEVENT
END:VCALENDAR